BEGIN:VCALENDAR
VERSION:2.0
PRODID:-//eventon.com NONSGML v1.0//EN
CALSCALE:GREGORIAN
METHOD:PUBLISH
BEGIN:VEVENT
UID:69e67807d4b4f
DTSTAMP:20260420T190127Z
DTSTART:20210619T080000Z
DTEND:20210619T130000Z
LOCATION:Hôtel-Restaurant Dahm\,  Erpeldange-sur-Sûre
SUMMARY:Emotion Management Workshop: Exprimer ses émotions par la peinture
DESCRIPTION:Eine Serie von 4 Workshops\,  die darauf abzielen\,  den Teilne
 hmern die Mittel zu geben ihre Emotionen besser zu verstehen und zu bewält
 igen. Für weitere Informationen laden Sie bitte das Informationsdossier he
 runter.\nhttps://alan.lu/de/events/emotion-management-workshop-exprimer-ses
 -emotions-par-la-peinture/
URL:https://alan.lu/de/events/emotion-management-workshop-exprimer-ses-emotions-par-la-peinture/
END:VEVENT
END:VCALENDAR