BEGIN:VCALENDAR
VERSION:2.0
PRODID:-//eventon.com NONSGML v1.0//EN
CALSCALE:GREGORIAN
METHOD:PUBLISH
BEGIN:VEVENT
UID:69e4d12988f9f
DTSTAMP:20260419T125713Z
DTSTART:20220305T090000Z
DTEND:20220305T110000Z
LOCATION:Parking Piscine Remich Route du Vin\,  L-5576 Remich
SUMMARY:Walk 'n Talk Remich
DESCRIPTION:Aktiv sein\,  zusammen die Natur genießen\,  sich kennenlernen
  und austauschen. Jeder ist willkommen bei unseren rollstuhlgerechten &#822
 0;Walk &#8216;n Talk&#8221; Touren. &nbsp; Die Strecken sind 4-5 km lang un
 d man braucht ungefähr anderthalb Stunden. &nbsp; Treffpunkt: Parking de l
 a piscine de Remich\,  Route du Vin\,  L-5576 Remich &nbsp; Bitte melden Si
 e[..]\nhttps://alan.lu/de/events/walk-n-talk-remich/
URL:https://alan.lu/de/events/walk-n-talk-remich/
END:VEVENT
END:VCALENDAR