BEGIN:VCALENDAR
VERSION:2.0
PRODID:-//eventon.com NONSGML v1.0//EN
CALSCALE:GREGORIAN
METHOD:PUBLISH
BEGIN:VEVENT
UID:69e5f8b851467
DTSTAMP:20260420T095816Z
DTSTART:20250419T080000Z
DTEND:20250419T100000Z
LOCATION:Diekirch Al Schwemm Parking Brasserie Al Schwemm\,  21\,  rue d’Ettelbruck\,  L-9230 Diekirch
SUMMARY:Walk ‘n Talk Diekirch
DESCRIPTION:Aktiv sein\,  zusammen die Natur genießen\,  sich kennenlernen
  und austauschen. Jeder ist willkommen bei unseren rollstuhlgerechten &#822
 0;Walk &#8216;n Talk&#8221; Touren. Die Strecken sind 4-5 km lang und man b
 raucht ungefähr anderthalb Stunden. Treffpunkt: Brasserie Al Schwemm 21 ro
 ute d’Ettelbruck\,  L-9230 Diekirch Bitte melden Sie sich über unser onl
 ine Formular an:[..]\nhttps://alan.lu/de/events/walk-n-talk-diekirch/
URL:https://alan.lu/de/events/walk-n-talk-diekirch/
END:VEVENT
END:VCALENDAR