BEGIN:VCALENDAR
VERSION:2.0
PRODID:-//eventon.com NONSGML v1.0//EN
CALSCALE:GREGORIAN
METHOD:PUBLISH
BEGIN:VEVENT
UID:69e68d44613d2
DTSTAMP:20260420T203204Z
DTSTART:20210619T210000Z
DTEND:20210620T020000Z
LOCATION:Hôtel-Restaurant Dahm\,  Erpeldange-sur-Sûre
SUMMARY:Emotion Management Workshop: Exprimer ses émotions par la peinture
DESCRIPTION:A series of 4 workshops that aim to give participants the tools
  to better understand and manage their emotions. For more information pleas
 e download the information dossier.\nhttps://alan.lu/events/emotion-managem
 ent-workshops-3/
URL:https://alan.lu/events/emotion-management-workshops-3/
END:VEVENT
END:VCALENDAR