BEGIN:VCALENDAR
VERSION:2.0
PRODID:-//eventon.com NONSGML v1.0//EN
CALSCALE:GREGORIAN
METHOD:PUBLISH
BEGIN:VEVENT
UID:69e90017bdf61
DTSTAMP:20260422T170631Z
DTSTART:20210703T210000Z
DTEND:20210704T020000Z
LOCATION:Hôtel-Restaurant Dahm\,  Erpeldange-sur-Sûre
SUMMARY:Emotion Management Workshop : Explorer ses émotions par le mental
DESCRIPTION:A series of 4 workshops that aim to give participants the tools
  to better understand and manage their emotions. For more information pleas
 e download the information dossier.\nhttps://alan.lu/events/emotion-managem
 ent-workshops-4/
URL:https://alan.lu/events/emotion-management-workshops-4/
END:VEVENT
END:VCALENDAR