BEGIN:VCALENDAR
VERSION:2.0
PRODID:-//eventon.com NONSGML v1.0//EN
CALSCALE:GREGORIAN
METHOD:PUBLISH
BEGIN:VEVENT
UID:69e754e1287b0
DTSTAMP:20260421T104345Z
DTSTART:20220702T080000Z
DTEND:20220702T100000Z
LOCATION:Glacis : arrêt Tram &quot;Theater&quot; rue des Glacis\,  L-1628 Luxembourg
SUMMARY:Walk 'n Talk Luxembourg City
DESCRIPTION:Strolling through the park\,  appreciating nature\,  getting to
  know each other and connecting. Everyone is welcome on our  wheelchair ac
 cessible « Walk ‘n Talk » Tours. &nbsp; The tours are 4-5 km long and s
 hould take about 1\, 5 hours. Meeting spot: at the Glacis next to the tram 
 station “Theater”\, [..]\nhttps://alan.lu/events/walk-n-talk-luxembourg
 -city/
URL:https://alan.lu/events/walk-n-talk-luxembourg-city/
END:VEVENT
END:VCALENDAR