BEGIN:VCALENDAR
VERSION:2.0
PRODID:-//eventon.com NONSGML v1.0//EN
CALSCALE:GREGORIAN
METHOD:PUBLISH
BEGIN:VEVENT
UID:69e8fcbc71d67
DTSTAMP:20260422T165212Z
DTSTART:20210703T080000Z
DTEND:20210703T010000Z
LOCATION:Hôtel-Restaurant Dahm\,  Erpeldange-sur-Sûre
SUMMARY:Emotion Management Workshop : Explorer ses émotions par le mental
DESCRIPTION:Une série de 4 ateliers qui visent à donner aux participants 
 les outils pour mieux comprendre et gérer leurs émotions. Pour plus d&#82
 17;informations\,  veuillez télécharger le dossier d&#8217;information.\n
 https://alan.lu/fr/events/emotion-management-workshop-explorer-ses-emotions
 -par-le-mental/
URL:https://alan.lu/fr/events/emotion-management-workshop-explorer-ses-emotions-par-le-mental/
END:VEVENT
END:VCALENDAR