BEGIN:VCALENDAR
VERSION:2.0
PRODID:-//eventon.com NONSGML v1.0//EN
CALSCALE:GREGORIAN
METHOD:PUBLISH
BEGIN:VEVENT
UID:69e5ffe53be1f
DTSTAMP:20260420T102853Z
DTSTART:20230207T080000Z
DTEND:20230228T160000Z
LOCATION:Spuerkeess Bâtiment &quot;19 liberté&quot; 19 Avenue de la Liberté\,  L-1160 Luxembourg
SUMMARY:Exposition de photos “RaReflections”
DESCRIPTION:ALAN clôture l’exposition de photos itinérante « RaReflect
 ions » par un finissage au bâtiment « 19 liberté » de la Spuerkeess\
 ,  sponsor du projet. Œuvre de la photographe Sophie Margue\,  les photos 
 de l’exposition capturent des moments de réflexion d’enfants et d’ad
 ultes affectés par une maladie rare. L’exposition est ouverte au public[
 ..]\nhttps://alan.lu/fr/events/exposition-de-photos-rareflections/
URL:https://alan.lu/fr/events/exposition-de-photos-rareflections/
END:VEVENT
END:VCALENDAR